BEGIN:VCALENDAR
VERSION:2.0
PRODID:discoverydistrictdallas.com/movies-on-the-lawn-wicked-for-good
BEGIN:VEVENT
UID:69e72acfed9aa
DTSTART;TZID=America/Chicago:20260424T190000
SEQUENCE:0
TRANSP:OPAQUE
DTEND;TZID=America/Chicago:20260424T213000
SUMMARY:Movies on the Lawn: Wicked for Good
CLASS:PUBLIC
DESCRIPTION:Everyone is invited to grab a blanket and come to the Discovery
  District to enjoy a family friendly evening on the lawn featuring the new
 ly released sequel of WICKED!\nDon&#8217\;t forget to wear your pink or gr
 een outfits!\n
X-ALT-DESC;FMTTYPE=text/html:<div class=\"xdj266r x14z9mp xat24cr x1lziwak 
 x1vvkbs\">Everyone is invited to grab a blanket and come to the Discovery 
 District to enjoy a family friendly evening on the lawn featuring the newl
 y released sequel of WICKED!</div>\n<div class=\"x14z9mp xat24cr x1lziwak 
 x1vvkbs xtlvy1s\">Don&#8217\;t forget to wear your pink or green outfits!<
 /div>\n
DTSTAMP:20260421T074415Z
END:VEVENT
END:VCALENDAR