BEGIN:VCALENDAR
VERSION:2.0
PRODID:discoverydistrictdallas.com/good-4-the-body
BEGIN:VEVENT
UID:69e74efb9bd32
DTSTART;TZID=America/Chicago:20260425T101500
SEQUENCE:0
TRANSP:OPAQUE
DTEND;TZID=America/Chicago:20260425T120000
SUMMARY:GOOD 4 THE BODY
CLASS:PUBLIC
DESCRIPTION:Kick off the return of 4YOG at AT&amp\;T Discovery District on 
 Saturday\, April 25th with a high-energy HIIT workout led by Tiffany Riley
  and a restorative yoga flow with Tay Diggs. Free and open to the public
 —just bring your water and mat for a morning that’s Good 4 the Body\, 
 Good 4 the Soul.\n
X-ALT-DESC;FMTTYPE=text/html:<p>Kick off the return of 4YOG at AT&amp\;T Di
 scovery District on Saturday\, April 25th with a high-energy HIIT workout 
 led by Tiffany Riley and a restorative yoga flow with Tay Diggs. Free and 
 open to the public—just bring your water and mat for a morning that’s 
 Good 4 the Body\, Good 4 the Soul.</p>\n
DTSTAMP:20260421T101835Z
END:VEVENT
END:VCALENDAR